BEGIN:VCALENDAR
VERSION:2.0
PRODID:-//Meraki montessori - ECPv6.15.11//NONSGML v1.0//EN
CALSCALE:GREGORIAN
METHOD:PUBLISH
X-WR-CALNAME:Meraki montessori
X-ORIGINAL-URL:https://merakimontessori.co.nz
X-WR-CALDESC:Events for Meraki montessori
REFRESH-INTERVAL;VALUE=DURATION:PT1H
X-Robots-Tag:noindex
X-PUBLISHED-TTL:PT1H
BEGIN:VTIMEZONE
TZID:Pacific/Auckland
BEGIN:STANDARD
TZOFFSETFROM:+1300
TZOFFSETTO:+1200
TZNAME:NZST
DTSTART:20250405T140000
END:STANDARD
BEGIN:DAYLIGHT
TZOFFSETFROM:+1200
TZOFFSETTO:+1300
TZNAME:NZDT
DTSTART:20250927T140000
END:DAYLIGHT
BEGIN:STANDARD
TZOFFSETFROM:+1300
TZOFFSETTO:+1200
TZNAME:NZST
DTSTART:20260404T140000
END:STANDARD
BEGIN:DAYLIGHT
TZOFFSETFROM:+1200
TZOFFSETTO:+1300
TZNAME:NZDT
DTSTART:20260926T140000
END:DAYLIGHT
BEGIN:STANDARD
TZOFFSETFROM:+1300
TZOFFSETTO:+1200
TZNAME:NZST
DTSTART:20270403T140000
END:STANDARD
BEGIN:DAYLIGHT
TZOFFSETFROM:+1200
TZOFFSETTO:+1300
TZNAME:NZDT
DTSTART:20270925T140000
END:DAYLIGHT
END:VTIMEZONE
BEGIN:VEVENT
DTSTART;VALUE=DATE:20260702
DTEND;VALUE=DATE:20260703
DTSTAMP:20260418T213727
CREATED:20251014T000102Z
LAST-MODIFIED:20251014T000102Z
UID:1490-1782950400-1783036799@merakimontessori.co.nz
SUMMARY:Last Day of Term 2
DESCRIPTION:
URL:https://merakimontessori.co.nz/event/last-day-of-term-2-3/
END:VEVENT
BEGIN:VEVENT
DTSTART;TZID=Pacific/Auckland:20260703T080000
DTEND;TZID=Pacific/Auckland:20260703T170000
DTSTAMP:20260418T213727
CREATED:20251014T000322Z
LAST-MODIFIED:20251014T000322Z
UID:1492-1783065600-1783098000@merakimontessori.co.nz
SUMMARY:Teacher Only Day - School Closed
DESCRIPTION:
URL:https://merakimontessori.co.nz/event/teacher-only-day-school-closed-6/
END:VEVENT
BEGIN:VEVENT
DTSTART;VALUE=DATE:20260720
DTEND;VALUE=DATE:20260721
DTSTAMP:20260418T213727
CREATED:20251014T000355Z
LAST-MODIFIED:20251014T000355Z
UID:1494-1784505600-1784591999@merakimontessori.co.nz
SUMMARY:First Day of Term 3
DESCRIPTION:
URL:https://merakimontessori.co.nz/event/first-day-of-term-3-4/
END:VEVENT
END:VCALENDAR