BEGIN:VCALENDAR
VERSION:2.0
PRODID:-//Meraki montessori - ECPv6.15.11//NONSGML v1.0//EN
CALSCALE:GREGORIAN
METHOD:PUBLISH
X-ORIGINAL-URL:https://merakimontessori.co.nz
X-WR-CALDESC:Events for Meraki montessori
REFRESH-INTERVAL;VALUE=DURATION:PT1H
X-Robots-Tag:noindex
X-PUBLISHED-TTL:PT1H
BEGIN:VTIMEZONE
TZID:Pacific/Auckland
BEGIN:STANDARD
TZOFFSETFROM:+1300
TZOFFSETTO:+1200
TZNAME:NZST
DTSTART:20240406T140000
END:STANDARD
BEGIN:DAYLIGHT
TZOFFSETFROM:+1200
TZOFFSETTO:+1300
TZNAME:NZDT
DTSTART:20240928T140000
END:DAYLIGHT
BEGIN:STANDARD
TZOFFSETFROM:+1300
TZOFFSETTO:+1200
TZNAME:NZST
DTSTART:20250405T140000
END:STANDARD
BEGIN:DAYLIGHT
TZOFFSETFROM:+1200
TZOFFSETTO:+1300
TZNAME:NZDT
DTSTART:20250927T140000
END:DAYLIGHT
BEGIN:STANDARD
TZOFFSETFROM:+1300
TZOFFSETTO:+1200
TZNAME:NZST
DTSTART:20260404T140000
END:STANDARD
BEGIN:DAYLIGHT
TZOFFSETFROM:+1200
TZOFFSETTO:+1300
TZNAME:NZDT
DTSTART:20260926T140000
END:DAYLIGHT
END:VTIMEZONE
BEGIN:VEVENT
DTSTART;VALUE=DATE:20251103
DTEND;VALUE=DATE:20251104
DTSTAMP:20260418T215900
CREATED:20250925T013158Z
LAST-MODIFIED:20250925T013549Z
UID:1443-1762128000-1762214399@merakimontessori.co.nz
SUMMARY:Yoga Session
DESCRIPTION:
URL:https://merakimontessori.co.nz/event/yoga-lesons/
END:VEVENT
BEGIN:VEVENT
DTSTART;VALUE=DATE:20251105
DTEND;VALUE=DATE:20251106
DTSTAMP:20260418T215900
CREATED:20250925T011142Z
LAST-MODIFIED:20250925T011142Z
UID:1417-1762300800-1762387199@merakimontessori.co.nz
SUMMARY:Soccer Training
DESCRIPTION:
URL:https://merakimontessori.co.nz/event/soccer-training-4/
END:VEVENT
BEGIN:VEVENT
DTSTART;VALUE=DATE:20251106
DTEND;VALUE=DATE:20251107
DTSTAMP:20260418T215900
CREATED:20250925T013031Z
LAST-MODIFIED:20250925T013031Z
UID:1441-1762387200-1762473599@merakimontessori.co.nz
SUMMARY:Clay Lessons
DESCRIPTION:
URL:https://merakimontessori.co.nz/event/clay-lessons-4/
END:VEVENT
BEGIN:VEVENT
DTSTART;TZID=Pacific/Auckland:20251110T080000
DTEND;TZID=Pacific/Auckland:20251110T170000
DTSTAMP:20260418T215900
CREATED:20250211T202940Z
LAST-MODIFIED:20250211T202940Z
UID:1344-1762761600-1762794000@merakimontessori.co.nz
SUMMARY:Sensational Seaside Senses at Long Bay Beach Yrs 0-3
DESCRIPTION:
URL:https://merakimontessori.co.nz/event/sensational-seaside-senses-at-long-bay-beach-yrs-0-3/
END:VEVENT
BEGIN:VEVENT
DTSTART;VALUE=DATE:20251112
DTEND;VALUE=DATE:20251113
DTSTAMP:20260418T215900
CREATED:20250925T011209Z
LAST-MODIFIED:20250925T011209Z
UID:1419-1762905600-1762991999@merakimontessori.co.nz
SUMMARY:Soccer Training
DESCRIPTION:
URL:https://merakimontessori.co.nz/event/soccer-training-5/
END:VEVENT
BEGIN:VEVENT
DTSTART;TZID=Pacific/Auckland:20251117T080000
DTEND;TZID=Pacific/Auckland:20251117T170000
DTSTAMP:20260418T215900
CREATED:20250211T203025Z
LAST-MODIFIED:20250211T203025Z
UID:1346-1763366400-1763398800@merakimontessori.co.nz
SUMMARY:Outdoor Challenge at Long Bay Beach - Yrs 4-8
DESCRIPTION:
URL:https://merakimontessori.co.nz/event/outdoor-challenge-at-long-bay-beach-yrs-4-8/
END:VEVENT
BEGIN:VEVENT
DTSTART;VALUE=DATE:20251119
DTEND;VALUE=DATE:20251120
DTSTAMP:20260418T215900
CREATED:20250925T011236Z
LAST-MODIFIED:20250925T011236Z
UID:1421-1763510400-1763596799@merakimontessori.co.nz
SUMMARY:Soccer Training
DESCRIPTION:
URL:https://merakimontessori.co.nz/event/soccer-training-6/
END:VEVENT
BEGIN:VEVENT
DTSTART;VALUE=DATE:20251124
DTEND;VALUE=DATE:20251125
DTSTAMP:20260418T215900
CREATED:20250925T013227Z
LAST-MODIFIED:20250925T013642Z
UID:1445-1763942400-1764028799@merakimontessori.co.nz
SUMMARY:Yoga Session
DESCRIPTION:
URL:https://merakimontessori.co.nz/event/yoga-lesson/
END:VEVENT
BEGIN:VEVENT
DTSTART;TZID=Pacific/Auckland:20251126T080000
DTEND;TZID=Pacific/Auckland:20251126T170000
DTSTAMP:20260418T215900
CREATED:20251001T231049Z
LAST-MODIFIED:20251001T231049Z
UID:1463-1764144000-1764176400@merakimontessori.co.nz
SUMMARY:Kelly Sports Session
DESCRIPTION:
URL:https://merakimontessori.co.nz/event/kelly-sports-session/
END:VEVENT
BEGIN:VEVENT
DTSTART;VALUE=DATE:20251128
DTEND;VALUE=DATE:20251129
DTSTAMP:20260418T215900
CREATED:20250925T013722Z
LAST-MODIFIED:20250925T013722Z
UID:1455-1764288000-1764374399@merakimontessori.co.nz
SUMMARY:Wizard of Oz Show at Kiri te Kanawa Theatre
DESCRIPTION:
URL:https://merakimontessori.co.nz/event/wizard-of-oz-show-at-kiri-te-kanawa-theatre/
END:VEVENT
END:VCALENDAR