BEGIN:VCALENDAR
VERSION:2.0
PRODID:-//Meraki montessori - ECPv6.15.11//NONSGML v1.0//EN
CALSCALE:GREGORIAN
METHOD:PUBLISH
X-WR-CALNAME:Meraki montessori
X-ORIGINAL-URL:https://merakimontessori.co.nz
X-WR-CALDESC:Events for Meraki montessori
REFRESH-INTERVAL;VALUE=DURATION:PT1H
X-Robots-Tag:noindex
X-PUBLISHED-TTL:PT1H
BEGIN:VTIMEZONE
TZID:Pacific/Auckland
BEGIN:STANDARD
TZOFFSETFROM:+1300
TZOFFSETTO:+1200
TZNAME:NZST
DTSTART:20190406T140000
END:STANDARD
BEGIN:DAYLIGHT
TZOFFSETFROM:+1200
TZOFFSETTO:+1300
TZNAME:NZDT
DTSTART:20190928T140000
END:DAYLIGHT
BEGIN:STANDARD
TZOFFSETFROM:+1300
TZOFFSETTO:+1200
TZNAME:NZST
DTSTART:20200404T140000
END:STANDARD
BEGIN:DAYLIGHT
TZOFFSETFROM:+1200
TZOFFSETTO:+1300
TZNAME:NZDT
DTSTART:20200926T140000
END:DAYLIGHT
BEGIN:STANDARD
TZOFFSETFROM:+1300
TZOFFSETTO:+1200
TZNAME:NZST
DTSTART:20210403T140000
END:STANDARD
BEGIN:DAYLIGHT
TZOFFSETFROM:+1200
TZOFFSETTO:+1300
TZNAME:NZDT
DTSTART:20210925T140000
END:DAYLIGHT
BEGIN:STANDARD
TZOFFSETFROM:+1300
TZOFFSETTO:+1200
TZNAME:NZST
DTSTART:20220402T140000
END:STANDARD
BEGIN:DAYLIGHT
TZOFFSETFROM:+1200
TZOFFSETTO:+1300
TZNAME:NZDT
DTSTART:20220924T140000
END:DAYLIGHT
END:VTIMEZONE
BEGIN:VEVENT
DTSTART;VALUE=DATE:20211025
DTEND;VALUE=DATE:20211026
DTSTAMP:20260423T185319
CREATED:20201007T233139Z
LAST-MODIFIED:20201007T233139Z
UID:955-1635120000-1635206399@merakimontessori.co.nz
SUMMARY:Labour Day (No School)
DESCRIPTION:
URL:https://merakimontessori.co.nz/event/labour-day-no-school-2/
END:VEVENT
BEGIN:VEVENT
DTSTART;VALUE=DATE:20211022
DTEND;VALUE=DATE:20211023
DTSTAMP:20260423T185319
CREATED:20201007T231631Z
LAST-MODIFIED:20201007T231631Z
UID:937-1634860800-1634947199@merakimontessori.co.nz
SUMMARY:Teacher Only Day (all Day)
DESCRIPTION:
URL:https://merakimontessori.co.nz/event/teacher-only-day-all-day-5/
END:VEVENT
BEGIN:VEVENT
DTSTART;TZID=Pacific/Auckland:20211018T083000
DTEND;TZID=Pacific/Auckland:20211018T150000
DTSTAMP:20260423T185319
CREATED:20201007T231545Z
LAST-MODIFIED:20201007T231545Z
UID:935-1634545800-1634569200@merakimontessori.co.nz
SUMMARY:First Day of term 4 2021
DESCRIPTION:
URL:https://merakimontessori.co.nz/event/first-day-of-term-4-2021/
END:VEVENT
BEGIN:VEVENT
DTSTART;TZID=Pacific/Auckland:20211016T090000
DTEND;TZID=Pacific/Auckland:20211016T130000
DTSTAMP:20260423T185319
CREATED:20201007T232722Z
LAST-MODIFIED:20201007T232722Z
UID:947-1634374800-1634389200@merakimontessori.co.nz
SUMMARY:Working Bee
DESCRIPTION:
URL:https://merakimontessori.co.nz/event/working-bee-6/
END:VEVENT
BEGIN:VEVENT
DTSTART;VALUE=DATE:20211001
DTEND;VALUE=DATE:20211002
DTSTAMP:20260423T185319
CREATED:20201007T231456Z
LAST-MODIFIED:20201007T231456Z
UID:933-1633046400-1633132799@merakimontessori.co.nz
SUMMARY:Teacher Only day
DESCRIPTION:
URL:https://merakimontessori.co.nz/event/teacher-only-day-2/
END:VEVENT
BEGIN:VEVENT
DTSTART;TZID=Pacific/Auckland:20210930T083000
DTEND;TZID=Pacific/Auckland:20210930T150000
DTSTAMP:20260423T185319
CREATED:20201007T231416Z
LAST-MODIFIED:20201007T231416Z
UID:931-1632990600-1633014000@merakimontessori.co.nz
SUMMARY:Last Day of Term 3 2021
DESCRIPTION:
URL:https://merakimontessori.co.nz/event/last-day-of-term-3-2021/
END:VEVENT
BEGIN:VEVENT
DTSTART;TZID=Pacific/Auckland:20210923T180000
DTEND;TZID=Pacific/Auckland:20210923T200000
DTSTAMP:20260423T185319
CREATED:20201007T235540Z
LAST-MODIFIED:20210423T082112Z
UID:970-1632420000-1632427200@merakimontessori.co.nz
SUMMARY:Community Discussion Evening
DESCRIPTION:
URL:https://merakimontessori.co.nz/event/community-discussion-evening-11/
END:VEVENT
BEGIN:VEVENT
DTSTART;VALUE=DATE:20210827
DTEND;VALUE=DATE:20210828
DTSTAMP:20260423T185319
CREATED:20201007T231313Z
LAST-MODIFIED:20201007T231313Z
UID:929-1630022400-1630108799@merakimontessori.co.nz
SUMMARY:Student Lead Conferences
DESCRIPTION:
URL:https://merakimontessori.co.nz/event/student-lead-conferences-2/
END:VEVENT
BEGIN:VEVENT
DTSTART;TZID=Pacific/Auckland:20210805T180000
DTEND;TZID=Pacific/Auckland:20210805T200000
DTSTAMP:20260423T185319
CREATED:20201007T235438Z
LAST-MODIFIED:20210423T082324Z
UID:968-1628186400-1628193600@merakimontessori.co.nz
SUMMARY:Community Discussion Evening
DESCRIPTION:
URL:https://merakimontessori.co.nz/event/community-discussion-evening-10/
END:VEVENT
BEGIN:VEVENT
DTSTART;TZID=Pacific/Auckland:20210726T083000
DTEND;TZID=Pacific/Auckland:20210726T150000
DTSTAMP:20260423T185319
CREATED:20201007T231204Z
LAST-MODIFIED:20201007T231204Z
UID:927-1627288200-1627311600@merakimontessori.co.nz
SUMMARY:First Day of Term 3 2021
DESCRIPTION:
URL:https://merakimontessori.co.nz/event/first-day-of-term-3-2021/
END:VEVENT
BEGIN:VEVENT
DTSTART;TZID=Pacific/Auckland:20210724T090000
DTEND;TZID=Pacific/Auckland:20210724T130000
DTSTAMP:20260423T185319
CREATED:20201007T232626Z
LAST-MODIFIED:20201007T232626Z
UID:945-1627117200-1627131600@merakimontessori.co.nz
SUMMARY:Working Bee
DESCRIPTION:
URL:https://merakimontessori.co.nz/event/working-bee-5/
END:VEVENT
BEGIN:VEVENT
DTSTART;VALUE=DATE:20210709
DTEND;VALUE=DATE:20210710
DTSTAMP:20260423T185319
CREATED:20201007T231117Z
LAST-MODIFIED:20201007T231117Z
UID:925-1625788800-1625875199@merakimontessori.co.nz
SUMMARY:Teacher Only Day (All Day)
DESCRIPTION:
URL:https://merakimontessori.co.nz/event/teacher-only-day-all-day-4/
END:VEVENT
BEGIN:VEVENT
DTSTART;TZID=Pacific/Auckland:20210708T083000
DTEND;TZID=Pacific/Auckland:20210708T150000
DTSTAMP:20260423T185319
CREATED:20201007T231029Z
LAST-MODIFIED:20201007T231029Z
UID:923-1625733000-1625756400@merakimontessori.co.nz
SUMMARY:Last Day of Term 2 2021
DESCRIPTION:
URL:https://merakimontessori.co.nz/event/last-day-of-term-2-2021/
END:VEVENT
BEGIN:VEVENT
DTSTART;TZID=Pacific/Auckland:20210701T180000
DTEND;TZID=Pacific/Auckland:20210701T200000
DTSTAMP:20260423T185319
CREATED:20201007T235335Z
LAST-MODIFIED:20210423T082437Z
UID:966-1625162400-1625169600@merakimontessori.co.nz
SUMMARY:Community Discussion Evening
DESCRIPTION:
URL:https://merakimontessori.co.nz/event/community-discussion-evening-9/
END:VEVENT
BEGIN:VEVENT
DTSTART;VALUE=DATE:20210607
DTEND;VALUE=DATE:20210608
DTSTAMP:20260423T185319
CREATED:20201007T233020Z
LAST-MODIFIED:20201007T233020Z
UID:953-1623024000-1623110399@merakimontessori.co.nz
SUMMARY:Queens Birthday (No School)
DESCRIPTION:
URL:https://merakimontessori.co.nz/event/queens-birthday-no-school-2/
END:VEVENT
BEGIN:VEVENT
DTSTART;VALUE=DATE:20210604
DTEND;VALUE=DATE:20210605
DTSTAMP:20260423T185319
CREATED:20201007T230938Z
LAST-MODIFIED:20201007T230938Z
UID:921-1622764800-1622851199@merakimontessori.co.nz
SUMMARY:Teacher Only Day (All day)
DESCRIPTION:
URL:https://merakimontessori.co.nz/event/teacher-only-day-all-day-3/
END:VEVENT
BEGIN:VEVENT
DTSTART;TZID=Pacific/Auckland:20210522T100000
DTEND;TZID=Pacific/Auckland:20210522T130000
DTSTAMP:20260423T185319
CREATED:20201007T233418Z
LAST-MODIFIED:20201007T233418Z
UID:958-1621677600-1621688400@merakimontessori.co.nz
SUMMARY:Open Day
DESCRIPTION:
URL:https://merakimontessori.co.nz/event/open-day/
END:VEVENT
BEGIN:VEVENT
DTSTART;TZID=Pacific/Auckland:20210513T180000
DTEND;TZID=Pacific/Auckland:20210513T200000
DTSTAMP:20260423T185319
CREATED:20201007T235201Z
LAST-MODIFIED:20210423T082219Z
UID:964-1620928800-1620936000@merakimontessori.co.nz
SUMMARY:Community Discussion Evening
DESCRIPTION:
URL:https://merakimontessori.co.nz/event/community-discussion-evening-6/
END:VEVENT
BEGIN:VEVENT
DTSTART;TZID=Pacific/Auckland:20210503T083000
DTEND;TZID=Pacific/Auckland:20210503T150000
DTSTAMP:20260423T185319
CREATED:20201007T230856Z
LAST-MODIFIED:20201007T230856Z
UID:919-1620030600-1620054000@merakimontessori.co.nz
SUMMARY:First Day of Term 2 2021
DESCRIPTION:
URL:https://merakimontessori.co.nz/event/first-day-of-term-2-2021/
END:VEVENT
BEGIN:VEVENT
DTSTART;VALUE=DATE:20210416
DTEND;VALUE=DATE:20210417
DTSTAMP:20260423T185319
CREATED:20201007T230702Z
LAST-MODIFIED:20201007T230702Z
UID:915-1618531200-1618617599@merakimontessori.co.nz
SUMMARY:Teacher Only Day (All Day)
DESCRIPTION:
URL:https://merakimontessori.co.nz/event/teacher-only-day-all-day-2/
END:VEVENT
BEGIN:VEVENT
DTSTART;TZID=Pacific/Auckland:20210415T083000
DTEND;TZID=Pacific/Auckland:20210415T150000
DTSTAMP:20260423T185319
CREATED:20201007T230750Z
LAST-MODIFIED:20201007T230750Z
UID:917-1618475400-1618498800@merakimontessori.co.nz
SUMMARY:Last Day of Term 1 2021
DESCRIPTION:
URL:https://merakimontessori.co.nz/event/last-day-of-term-1-2021/
END:VEVENT
BEGIN:VEVENT
DTSTART;TZID=Pacific/Auckland:20210408T180000
DTEND;TZID=Pacific/Auckland:20210408T200000
DTSTAMP:20260423T185319
CREATED:20201007T233714Z
LAST-MODIFIED:20210323T005146Z
UID:962-1617904800-1617912000@merakimontessori.co.nz
SUMMARY:Community Discussion Evening
DESCRIPTION:
URL:https://merakimontessori.co.nz/event/community-discussion-evening-5/
END:VEVENT
BEGIN:VEVENT
DTSTART;VALUE=DATE:20210405
DTEND;VALUE=DATE:20210406
DTSTAMP:20260423T185319
CREATED:20201007T232907Z
LAST-MODIFIED:20201007T233308Z
UID:951-1617580800-1617667199@merakimontessori.co.nz
SUMMARY:Easter Monday (No School)
DESCRIPTION:
URL:https://merakimontessori.co.nz/event/easter-monday/
END:VEVENT
BEGIN:VEVENT
DTSTART;VALUE=DATE:20210402
DTEND;VALUE=DATE:20210403
DTSTAMP:20260423T185319
CREATED:20201007T232833Z
LAST-MODIFIED:20201007T232833Z
UID:949-1617321600-1617407999@merakimontessori.co.nz
SUMMARY:Good Friday (No School)
DESCRIPTION:
URL:https://merakimontessori.co.nz/event/good-friday-no-school/
END:VEVENT
BEGIN:VEVENT
DTSTART;VALUE=DATE:20210401
DTEND;VALUE=DATE:20210402
DTSTAMP:20260423T185319
CREATED:20201007T230612Z
LAST-MODIFIED:20201007T230612Z
UID:913-1617235200-1617321599@merakimontessori.co.nz
SUMMARY:Teacher Only Day (All Day)
DESCRIPTION:
URL:https://merakimontessori.co.nz/event/teacher-only-day-all-day/
END:VEVENT
BEGIN:VEVENT
DTSTART;TZID=Pacific/Auckland:20210209T083000
DTEND;TZID=Pacific/Auckland:20210209T150000
DTSTAMP:20260423T185319
CREATED:20200921T014647Z
LAST-MODIFIED:20200921T030104Z
UID:910-1612859400-1612882800@merakimontessori.co.nz
SUMMARY:First Day of 2021
DESCRIPTION:
URL:https://merakimontessori.co.nz/event/first-day-of-2021/
END:VEVENT
BEGIN:VEVENT
DTSTART;TZID=Pacific/Auckland:20201217T083000
DTEND;TZID=Pacific/Auckland:20201217T150000
DTSTAMP:20260423T185319
CREATED:20190924T004207Z
LAST-MODIFIED:20190924T004207Z
UID:828-1608193800-1608217200@merakimontessori.co.nz
SUMMARY:Last Day Term 4
DESCRIPTION:
URL:https://merakimontessori.co.nz/event/last-day-term-4/
LOCATION:Meraki Montessori
END:VEVENT
BEGIN:VEVENT
DTSTART;TZID=Pacific/Auckland:20201126T183000
DTEND;TZID=Pacific/Auckland:20201126T203000
DTSTAMP:20260423T185319
CREATED:20200217T223104Z
LAST-MODIFIED:20200316T220314Z
UID:867-1606415400-1606422600@merakimontessori.co.nz
SUMMARY:Community Discussion Evening
DESCRIPTION:
URL:https://merakimontessori.co.nz/event/community-discussion-evening-8/
END:VEVENT
BEGIN:VEVENT
DTSTART;VALUE=DATE:20201120
DTEND;VALUE=DATE:20201121
DTSTAMP:20260423T185319
CREATED:20200617T221528Z
LAST-MODIFIED:20200617T221528Z
UID:888-1605830400-1605916799@merakimontessori.co.nz
SUMMARY:Teacher Only Day
DESCRIPTION:
URL:https://merakimontessori.co.nz/event/teacher-only-day/
END:VEVENT
BEGIN:VEVENT
DTSTART;TZID=Pacific/Auckland:20201031T100000
DTEND;TZID=Pacific/Auckland:20201031T140000
DTSTAMP:20260423T185319
CREATED:20200217T223003Z
LAST-MODIFIED:20200217T223003Z
UID:865-1604138400-1604152800@merakimontessori.co.nz
SUMMARY:Meraki Open Day
DESCRIPTION:
URL:https://merakimontessori.co.nz/event/meraki-open-day-3/
END:VEVENT
END:VCALENDAR