BEGIN:VCALENDAR
VERSION:2.0
PRODID:-//Meraki montessori - ECPv6.15.11//NONSGML v1.0//EN
CALSCALE:GREGORIAN
METHOD:PUBLISH
X-WR-CALNAME:Meraki montessori
X-ORIGINAL-URL:https://merakimontessori.co.nz
X-WR-CALDESC:Events for Meraki montessori
REFRESH-INTERVAL;VALUE=DURATION:PT1H
X-Robots-Tag:noindex
X-PUBLISHED-TTL:PT1H
BEGIN:VTIMEZONE
TZID:Pacific/Auckland
BEGIN:STANDARD
TZOFFSETFROM:+1300
TZOFFSETTO:+1200
TZNAME:NZST
DTSTART:20200404T140000
END:STANDARD
BEGIN:DAYLIGHT
TZOFFSETFROM:+1200
TZOFFSETTO:+1300
TZNAME:NZDT
DTSTART:20200926T140000
END:DAYLIGHT
BEGIN:STANDARD
TZOFFSETFROM:+1300
TZOFFSETTO:+1200
TZNAME:NZST
DTSTART:20210403T140000
END:STANDARD
BEGIN:DAYLIGHT
TZOFFSETFROM:+1200
TZOFFSETTO:+1300
TZNAME:NZDT
DTSTART:20210925T140000
END:DAYLIGHT
BEGIN:STANDARD
TZOFFSETFROM:+1300
TZOFFSETTO:+1200
TZNAME:NZST
DTSTART:20220402T140000
END:STANDARD
BEGIN:DAYLIGHT
TZOFFSETFROM:+1200
TZOFFSETTO:+1300
TZNAME:NZDT
DTSTART:20220924T140000
END:DAYLIGHT
BEGIN:STANDARD
TZOFFSETFROM:+1300
TZOFFSETTO:+1200
TZNAME:NZST
DTSTART:20230401T140000
END:STANDARD
BEGIN:DAYLIGHT
TZOFFSETFROM:+1200
TZOFFSETTO:+1300
TZNAME:NZDT
DTSTART:20230923T140000
END:DAYLIGHT
BEGIN:STANDARD
TZOFFSETFROM:+1300
TZOFFSETTO:+1200
TZNAME:NZST
DTSTART:20240406T140000
END:STANDARD
BEGIN:DAYLIGHT
TZOFFSETFROM:+1200
TZOFFSETTO:+1300
TZNAME:NZDT
DTSTART:20240928T140000
END:DAYLIGHT
END:VTIMEZONE
BEGIN:VEVENT
DTSTART;TZID=Pacific/Auckland:20230315T180000
DTEND;TZID=Pacific/Auckland:20230315T193000
DTSTAMP:20260423T133953
CREATED:20230122T231137Z
LAST-MODIFIED:20230122T231137Z
UID:1104-1678903200-1678908600@merakimontessori.co.nz
SUMMARY:Parent Discussion Evening
DESCRIPTION:
URL:https://merakimontessori.co.nz/event/parent-discussion-evening/
END:VEVENT
BEGIN:VEVENT
DTSTART;TZID=Pacific/Auckland:20230207T083000
DTEND;TZID=Pacific/Auckland:20230207T150000
DTSTAMP:20260423T133953
CREATED:20220908T003205Z
LAST-MODIFIED:20220909T023132Z
UID:1061-1675758600-1675782000@merakimontessori.co.nz
SUMMARY:First Day of Term 1
DESCRIPTION:
URL:https://merakimontessori.co.nz/event/term-1-start/
END:VEVENT
BEGIN:VEVENT
DTSTART;TZID=Pacific/Auckland:20221216T082000
DTEND;TZID=Pacific/Auckland:20221216T150000
DTSTAMP:20260423T133953
CREATED:20211125T003301Z
LAST-MODIFIED:20220919T235818Z
UID:1021-1671178800-1671202800@merakimontessori.co.nz
SUMMARY:Last day of Term 4 - Whanau Picnic
DESCRIPTION:
URL:https://merakimontessori.co.nz/event/last-day-of-term-4/
END:VEVENT
BEGIN:VEVENT
DTSTART;TZID=Pacific/Auckland:20221119T100000
DTEND;TZID=Pacific/Auckland:20221119T120000
DTSTAMP:20260423T133953
CREATED:20220607T230120Z
LAST-MODIFIED:20220607T230120Z
UID:1036-1668852000-1668859200@merakimontessori.co.nz
SUMMARY:Open Day
DESCRIPTION:
URL:https://merakimontessori.co.nz/event/open-day-3/
END:VEVENT
BEGIN:VEVENT
DTSTART;TZID=Pacific/Auckland:20221024T082000
DTEND;TZID=Pacific/Auckland:20221024T152000
DTSTAMP:20260423T133953
CREATED:20211125T003216Z
LAST-MODIFIED:20211125T003216Z
UID:1019-1666599600-1666624800@merakimontessori.co.nz
SUMMARY:Labour Day
DESCRIPTION:No School
URL:https://merakimontessori.co.nz/event/labour-day/
END:VEVENT
BEGIN:VEVENT
DTSTART;TZID=Pacific/Auckland:20221021T082000
DTEND;TZID=Pacific/Auckland:20221021T150000
DTSTAMP:20260423T133953
CREATED:20211125T003138Z
LAST-MODIFIED:20211125T003138Z
UID:1017-1666340400-1666364400@merakimontessori.co.nz
SUMMARY:Teacher Only Day
DESCRIPTION:
URL:https://merakimontessori.co.nz/event/teacher-only-day-7/
END:VEVENT
BEGIN:VEVENT
DTSTART;TZID=Pacific/Auckland:20221017T082000
DTEND;TZID=Pacific/Auckland:20221017T152000
DTSTAMP:20260423T133953
CREATED:20211125T003054Z
LAST-MODIFIED:20211125T003054Z
UID:1015-1665994800-1666020000@merakimontessori.co.nz
SUMMARY:First day of Term 4
DESCRIPTION:
URL:https://merakimontessori.co.nz/event/first-day-of-term-4/
END:VEVENT
BEGIN:VEVENT
DTSTART;TZID=Pacific/Auckland:20220930T082000
DTEND;TZID=Pacific/Auckland:20221016T150000
DTSTAMP:20260423T133953
CREATED:20211125T002959Z
LAST-MODIFIED:20211125T002959Z
UID:1013-1664526000-1665932400@merakimontessori.co.nz
SUMMARY:School Holidays
DESCRIPTION:
URL:https://merakimontessori.co.nz/event/school-holidays-2/
END:VEVENT
BEGIN:VEVENT
DTSTART;TZID=Pacific/Auckland:20220930T082000
DTEND;TZID=Pacific/Auckland:20220930T152000
DTSTAMP:20260423T133953
CREATED:20211125T002908Z
LAST-MODIFIED:20211125T002908Z
UID:1011-1664526000-1664551200@merakimontessori.co.nz
SUMMARY:Teacher Only day
DESCRIPTION:
URL:https://merakimontessori.co.nz/event/teacher-only-day-6/
END:VEVENT
BEGIN:VEVENT
DTSTART;TZID=Pacific/Auckland:20220930T082000
DTEND;TZID=Pacific/Auckland:20220930T150000
DTSTAMP:20260423T133953
CREATED:20211125T002823Z
LAST-MODIFIED:20220805T013420Z
UID:1009-1664526000-1664550000@merakimontessori.co.nz
SUMMARY:Child Led Conferences
DESCRIPTION:
URL:https://merakimontessori.co.nz/event/child-led-conferences/
END:VEVENT
BEGIN:VEVENT
DTSTART;TZID=Pacific/Auckland:20220915T083000
DTEND;TZID=Pacific/Auckland:20220915T143000
DTSTAMP:20260423T133953
CREATED:20220831T231027Z
LAST-MODIFIED:20220831T231027Z
UID:1057-1663230600-1663252200@merakimontessori.co.nz
SUMMARY:Taurangi Camp - Peter Snell Youth Village
DESCRIPTION:
URL:https://merakimontessori.co.nz/event/taurangi-camp-peter-snell-youth-village/
END:VEVENT
BEGIN:VEVENT
DTSTART;TZID=Pacific/Auckland:20220914T133000
DTEND;TZID=Pacific/Auckland:20220916T143000
DTSTAMP:20260423T133953
CREATED:20220831T231135Z
LAST-MODIFIED:20220831T231135Z
UID:1059-1663162200-1663338600@merakimontessori.co.nz
SUMMARY:Tumanako Camp - Peter Snell Youth Village
DESCRIPTION:
URL:https://merakimontessori.co.nz/event/tumanako-camp-peter-snell-youth-village/
END:VEVENT
BEGIN:VEVENT
DTSTART;TZID=Pacific/Auckland:20220912T090000
DTEND;TZID=Pacific/Auckland:20220912T140000
DTSTAMP:20260423T133953
CREATED:20220801T041520Z
LAST-MODIFIED:20220801T041557Z
UID:1050-1662973200-1662991200@merakimontessori.co.nz
SUMMARY:Zero Waste Zone Trip - Waitakere Transfer Station
DESCRIPTION:
URL:https://merakimontessori.co.nz/event/zero-waste-zone-trip/
END:VEVENT
BEGIN:VEVENT
DTSTART;VALUE=DATE:20220823
DTEND;VALUE=DATE:20220824
DTSTAMP:20260423T133953
CREATED:20220801T041058Z
LAST-MODIFIED:20220801T041058Z
UID:1048-1661212800-1661299199@merakimontessori.co.nz
SUMMARY:Auckland Botanic Garden Trip - Taurangi
DESCRIPTION:
URL:https://merakimontessori.co.nz/event/auckland-botanic-garden-trip-taurangi/
END:VEVENT
BEGIN:VEVENT
DTSTART;TZID=Pacific/Auckland:20220817T084500
DTEND;TZID=Pacific/Auckland:20220817T133000
DTSTAMP:20260423T133953
CREATED:20220805T013216Z
LAST-MODIFIED:20220810T233548Z
UID:1053-1660725900-1660743000@merakimontessori.co.nz
SUMMARY:Auckland Botanic Garden Trip - Taumanako
DESCRIPTION:
URL:https://merakimontessori.co.nz/event/auckland-botanic-garden-trip-taumanako/
END:VEVENT
BEGIN:VEVENT
DTSTART;TZID=Pacific/Auckland:20220725T082000
DTEND;TZID=Pacific/Auckland:20220725T150000
DTSTAMP:20260423T133953
CREATED:20211125T002723Z
LAST-MODIFIED:20211125T002723Z
UID:1007-1658737200-1658761200@merakimontessori.co.nz
SUMMARY:First Day of Term 3
DESCRIPTION:
URL:https://merakimontessori.co.nz/event/first-day-of-term-3/
END:VEVENT
BEGIN:VEVENT
DTSTART;TZID=Pacific/Auckland:20220708T082000
DTEND;TZID=Pacific/Auckland:20220724T150000
DTSTAMP:20260423T133953
CREATED:20211125T002626Z
LAST-MODIFIED:20211125T002626Z
UID:1005-1657268400-1658674800@merakimontessori.co.nz
SUMMARY:School Holidays
DESCRIPTION:
URL:https://merakimontessori.co.nz/event/school-holidays/
END:VEVENT
BEGIN:VEVENT
DTSTART;TZID=Pacific/Auckland:20220708T082000
DTEND;TZID=Pacific/Auckland:20220708T150000
DTSTAMP:20260423T133953
CREATED:20211125T002535Z
LAST-MODIFIED:20211125T002535Z
UID:1003-1657268400-1657292400@merakimontessori.co.nz
SUMMARY:Teacher Only Day
DESCRIPTION:
URL:https://merakimontessori.co.nz/event/teacher-only-day-5/
END:VEVENT
BEGIN:VEVENT
DTSTART;TZID=Pacific/Auckland:20220624T082000
DTEND;TZID=Pacific/Auckland:20220624T150000
DTSTAMP:20260423T133953
CREATED:20211125T002406Z
LAST-MODIFIED:20211125T002406Z
UID:1001-1656058800-1656082800@merakimontessori.co.nz
SUMMARY:Matariki
DESCRIPTION:No School
URL:https://merakimontessori.co.nz/event/matariki/
END:VEVENT
BEGIN:VEVENT
DTSTART;TZID=Pacific/Auckland:20220606T082000
DTEND;TZID=Pacific/Auckland:20220606T150000
DTSTAMP:20260423T133953
CREATED:20211125T002306Z
LAST-MODIFIED:20211125T002306Z
UID:999-1654503600-1654527600@merakimontessori.co.nz
SUMMARY:Queens Birthday
DESCRIPTION:No School
URL:https://merakimontessori.co.nz/event/queens-birthday/
END:VEVENT
BEGIN:VEVENT
DTSTART;TZID=Pacific/Auckland:20220603T082000
DTEND;TZID=Pacific/Auckland:20220603T150000
DTSTAMP:20260423T133953
CREATED:20211125T002222Z
LAST-MODIFIED:20211125T002222Z
UID:997-1654244400-1654268400@merakimontessori.co.nz
SUMMARY:Teacher Only Day
DESCRIPTION:
URL:https://merakimontessori.co.nz/event/teacher-only-day-4/
END:VEVENT
BEGIN:VEVENT
DTSTART;TZID=Pacific/Auckland:20220502T082000
DTEND;TZID=Pacific/Auckland:20220502T150000
DTSTAMP:20260423T133953
CREATED:20211125T002121Z
LAST-MODIFIED:20211125T002121Z
UID:995-1651479600-1651503600@merakimontessori.co.nz
SUMMARY:First Day Term 2
DESCRIPTION:
URL:https://merakimontessori.co.nz/event/first-day-term-2-2/
END:VEVENT
BEGIN:VEVENT
DTSTART;TZID=Pacific/Auckland:20220415T082000
DTEND;TZID=Pacific/Auckland:20220501T150000
DTSTAMP:20260423T133953
CREATED:20211125T001852Z
LAST-MODIFIED:20220328T200922Z
UID:991-1650010800-1651417200@merakimontessori.co.nz
SUMMARY:School Holidays
DESCRIPTION:
URL:https://merakimontessori.co.nz/event/teacher-only-day-3/
END:VEVENT
BEGIN:VEVENT
DTSTART;VALUE=DATE:20220414
DTEND;VALUE=DATE:20220415
DTSTAMP:20260423T133953
CREATED:20220328T201025Z
LAST-MODIFIED:20220328T201025Z
UID:1030-1649894400-1649980799@merakimontessori.co.nz
SUMMARY:Teacher Only Day
DESCRIPTION:
URL:https://merakimontessori.co.nz/event/teacher-only-day-8/
END:VEVENT
BEGIN:VEVENT
DTSTART;TZID=Pacific/Auckland:20220413T082000
DTEND;TZID=Pacific/Auckland:20220413T150000
DTSTAMP:20260423T133953
CREATED:20220328T201000Z
LAST-MODIFIED:20220328T201000Z
UID:1028-1649838000-1649862000@merakimontessori.co.nz
SUMMARY:Last Day of Term 1
DESCRIPTION:
URL:https://merakimontessori.co.nz/event/last-day-of-term-1/
END:VEVENT
BEGIN:VEVENT
DTSTART;TZID=Pacific/Auckland:20220208T082000
DTEND;TZID=Pacific/Auckland:20220208T150000
DTSTAMP:20260423T133953
CREATED:20211125T001735Z
LAST-MODIFIED:20211125T003504Z
UID:989-1644308400-1644332400@merakimontessori.co.nz
SUMMARY:First Day of Term 1
DESCRIPTION:
URL:https://merakimontessori.co.nz/event/term-1-starts/
END:VEVENT
BEGIN:VEVENT
DTSTART;TZID=Pacific/Auckland:20211217T083000
DTEND;TZID=Pacific/Auckland:20211217T150000
DTSTAMP:20260423T133953
CREATED:20201007T231719Z
LAST-MODIFIED:20201007T231719Z
UID:939-1639729800-1639753200@merakimontessori.co.nz
SUMMARY:Last day of term 4 2021
DESCRIPTION:
URL:https://merakimontessori.co.nz/event/last-day-of-term-4-2021/
END:VEVENT
BEGIN:VEVENT
DTSTART;TZID=Pacific/Auckland:20211106T100000
DTEND;TZID=Pacific/Auckland:20211106T130000
DTSTAMP:20260423T133953
CREATED:20201007T233521Z
LAST-MODIFIED:20201007T233521Z
UID:960-1636192800-1636203600@merakimontessori.co.nz
SUMMARY:Open Day
DESCRIPTION:
URL:https://merakimontessori.co.nz/event/open-day-2/
END:VEVENT
BEGIN:VEVENT
DTSTART;TZID=Pacific/Auckland:20211104T180000
DTEND;TZID=Pacific/Auckland:20211104T200000
DTSTAMP:20260423T133953
CREATED:20201007T235644Z
LAST-MODIFIED:20210423T082040Z
UID:972-1636048800-1636056000@merakimontessori.co.nz
SUMMARY:Community Discussion Evening
DESCRIPTION:
URL:https://merakimontessori.co.nz/event/community-discussion-evening-12/
END:VEVENT
BEGIN:VEVENT
DTSTART;VALUE=DATE:20211025
DTEND;VALUE=DATE:20211026
DTSTAMP:20260423T133953
CREATED:20201007T233139Z
LAST-MODIFIED:20201007T233139Z
UID:955-1635120000-1635206399@merakimontessori.co.nz
SUMMARY:Labour Day (No School)
DESCRIPTION:
URL:https://merakimontessori.co.nz/event/labour-day-no-school-2/
END:VEVENT
END:VCALENDAR