BEGIN:VCALENDAR
VERSION:2.0
PRODID:-//Meraki montessori - ECPv6.15.11//NONSGML v1.0//EN
CALSCALE:GREGORIAN
METHOD:PUBLISH
X-WR-CALNAME:Meraki montessori
X-ORIGINAL-URL:https://merakimontessori.co.nz
X-WR-CALDESC:Events for Meraki montessori
REFRESH-INTERVAL;VALUE=DURATION:PT1H
X-Robots-Tag:noindex
X-PUBLISHED-TTL:PT1H
BEGIN:VTIMEZONE
TZID:Pacific/Auckland
BEGIN:STANDARD
TZOFFSETFROM:+1300
TZOFFSETTO:+1200
TZNAME:NZST
DTSTART:20210403T140000
END:STANDARD
BEGIN:DAYLIGHT
TZOFFSETFROM:+1200
TZOFFSETTO:+1300
TZNAME:NZDT
DTSTART:20210925T140000
END:DAYLIGHT
BEGIN:STANDARD
TZOFFSETFROM:+1300
TZOFFSETTO:+1200
TZNAME:NZST
DTSTART:20220402T140000
END:STANDARD
BEGIN:DAYLIGHT
TZOFFSETFROM:+1200
TZOFFSETTO:+1300
TZNAME:NZDT
DTSTART:20220924T140000
END:DAYLIGHT
BEGIN:STANDARD
TZOFFSETFROM:+1300
TZOFFSETTO:+1200
TZNAME:NZST
DTSTART:20230401T140000
END:STANDARD
BEGIN:DAYLIGHT
TZOFFSETFROM:+1200
TZOFFSETTO:+1300
TZNAME:NZDT
DTSTART:20230923T140000
END:DAYLIGHT
BEGIN:STANDARD
TZOFFSETFROM:+1300
TZOFFSETTO:+1200
TZNAME:NZST
DTSTART:20240406T140000
END:STANDARD
BEGIN:DAYLIGHT
TZOFFSETFROM:+1200
TZOFFSETTO:+1300
TZNAME:NZDT
DTSTART:20240928T140000
END:DAYLIGHT
BEGIN:STANDARD
TZOFFSETFROM:+1300
TZOFFSETTO:+1200
TZNAME:NZST
DTSTART:20250405T140000
END:STANDARD
BEGIN:DAYLIGHT
TZOFFSETFROM:+1200
TZOFFSETTO:+1300
TZNAME:NZDT
DTSTART:20250927T140000
END:DAYLIGHT
END:VTIMEZONE
BEGIN:VEVENT
DTSTART;VALUE=DATE:20240329
DTEND;VALUE=DATE:20240330
DTSTAMP:20260425T013046
CREATED:20231015T210518Z
LAST-MODIFIED:20231015T213200Z
UID:1167-1711670400-1711756799@merakimontessori.co.nz
SUMMARY:Good Friday - School Closed
DESCRIPTION:
URL:https://merakimontessori.co.nz/event/good-friday/
END:VEVENT
BEGIN:VEVENT
DTSTART;TZID=Pacific/Auckland:20240207T080000
DTEND;TZID=Pacific/Auckland:20240207T150000
DTSTAMP:20260425T013046
CREATED:20231015T210447Z
LAST-MODIFIED:20231015T210447Z
UID:1165-1707292800-1707318000@merakimontessori.co.nz
SUMMARY:First Day of Term 1
DESCRIPTION:
URL:https://merakimontessori.co.nz/event/first-day-of-term-1/
END:VEVENT
BEGIN:VEVENT
DTSTART;VALUE=DATE:20230922
DTEND;VALUE=DATE:20230923
DTSTAMP:20260425T013046
CREATED:20221122T030152Z
LAST-MODIFIED:20221122T030152Z
UID:1092-1695340800-1695427199@merakimontessori.co.nz
SUMMARY:Student Lead Conferences - School Closed
DESCRIPTION:
URL:https://merakimontessori.co.nz/event/student-lead-conferences-school-closed/
END:VEVENT
BEGIN:VEVENT
DTSTART;TZID=Pacific/Auckland:20230921T083000
DTEND;TZID=Pacific/Auckland:20230921T150000
DTSTAMP:20260425T013046
CREATED:20221122T030030Z
LAST-MODIFIED:20221122T030030Z
UID:1090-1695285000-1695308400@merakimontessori.co.nz
SUMMARY:Last Day of Term 3
DESCRIPTION:
URL:https://merakimontessori.co.nz/event/last-day-of-term-3/
END:VEVENT
BEGIN:VEVENT
DTSTART;VALUE=DATE:20230915
DTEND;VALUE=DATE:20230916
DTSTAMP:20260425T013046
CREATED:20230803T002256Z
LAST-MODIFIED:20230803T002256Z
UID:1149-1694736000-1694822399@merakimontessori.co.nz
SUMMARY:Zoo Trip - Taurangi
DESCRIPTION:
URL:https://merakimontessori.co.nz/event/zoo-trip-taurangi/
END:VEVENT
BEGIN:VEVENT
DTSTART;TZID=Pacific/Auckland:20230911T080000
DTEND;TZID=Pacific/Auckland:20230915T170000
DTSTAMP:20260425T013046
CREATED:20230803T002020Z
LAST-MODIFIED:20230803T002020Z
UID:1147-1694419200-1694797200@merakimontessori.co.nz
SUMMARY:Tumanako Camp
DESCRIPTION:
URL:https://merakimontessori.co.nz/event/tumanako-camp/
END:VEVENT
BEGIN:VEVENT
DTSTART;TZID=Pacific/Auckland:20230905T080000
DTEND;TZID=Pacific/Auckland:20230907T170000
DTSTAMP:20260425T013046
CREATED:20230803T001946Z
LAST-MODIFIED:20230803T001946Z
UID:1145-1693900800-1694106000@merakimontessori.co.nz
SUMMARY:Life Education Trust
DESCRIPTION:
URL:https://merakimontessori.co.nz/event/life-education-trust/
END:VEVENT
BEGIN:VEVENT
DTSTART;VALUE=DATE:20230822
DTEND;VALUE=DATE:20230823
DTSTAMP:20260425T013046
CREATED:20230803T001900Z
LAST-MODIFIED:20230803T001900Z
UID:1143-1692662400-1692748799@merakimontessori.co.nz
SUMMARY:Zoo Trip - Tumanako
DESCRIPTION:
URL:https://merakimontessori.co.nz/event/zoo-trip-tumanako/
END:VEVENT
BEGIN:VEVENT
DTSTART;TZID=Pacific/Auckland:20230817T100000
DTEND;TZID=Pacific/Auckland:20230817T130000
DTSTAMP:20260425T013046
CREATED:20230803T001823Z
LAST-MODIFIED:20230803T001831Z
UID:1141-1692266400-1692277200@merakimontessori.co.nz
SUMMARY:Bee Education Sesion
DESCRIPTION:
URL:https://merakimontessori.co.nz/event/bee-education-sesion/
END:VEVENT
BEGIN:VEVENT
DTSTART;TZID=Pacific/Auckland:20230717T083000
DTEND;TZID=Pacific/Auckland:20230717T150000
DTSTAMP:20260425T013046
CREATED:20221122T025944Z
LAST-MODIFIED:20221122T031237Z
UID:1088-1689582600-1689606000@merakimontessori.co.nz
SUMMARY:First Day of Term 3
DESCRIPTION:
URL:https://merakimontessori.co.nz/event/first-day-of-term-3-2023/
END:VEVENT
BEGIN:VEVENT
DTSTART;VALUE=DATE:20230630
DTEND;VALUE=DATE:20230701
DTSTAMP:20260425T013046
CREATED:20221122T025809Z
LAST-MODIFIED:20221122T025809Z
UID:1086-1688083200-1688169599@merakimontessori.co.nz
SUMMARY:Teacher Only Day
DESCRIPTION:
URL:https://merakimontessori.co.nz/event/teacher-only-day-11/
END:VEVENT
BEGIN:VEVENT
DTSTART;TZID=Pacific/Auckland:20230629T083000
DTEND;TZID=Pacific/Auckland:20230629T150000
DTSTAMP:20260425T013046
CREATED:20221122T025742Z
LAST-MODIFIED:20221122T025742Z
UID:1084-1688027400-1688050800@merakimontessori.co.nz
SUMMARY:Last Day of Term 2
DESCRIPTION:
URL:https://merakimontessori.co.nz/event/last-day-of-term-2/
END:VEVENT
BEGIN:VEVENT
DTSTART;VALUE=DATE:20230605
DTEND;VALUE=DATE:20230606
DTSTAMP:20260425T013046
CREATED:20221122T025641Z
LAST-MODIFIED:20221122T025641Z
UID:1082-1685923200-1686009599@merakimontessori.co.nz
SUMMARY:Queens Birthday - School Closed
DESCRIPTION:
URL:https://merakimontessori.co.nz/event/queens-birthday-school-closed/
END:VEVENT
BEGIN:VEVENT
DTSTART;VALUE=DATE:20230602
DTEND;VALUE=DATE:20230603
DTSTAMP:20260425T013046
CREATED:20221122T025501Z
LAST-MODIFIED:20221122T025501Z
UID:1080-1685664000-1685750399@merakimontessori.co.nz
SUMMARY:Teacher Only Day
DESCRIPTION:
URL:https://merakimontessori.co.nz/event/teacher-only-day-10/
END:VEVENT
BEGIN:VEVENT
DTSTART;VALUE=DATE:20230510
DTEND;VALUE=DATE:20230513
DTSTAMP:20260425T013046
CREATED:20230302T005246Z
LAST-MODIFIED:20230302T005246Z
UID:1109-1683676800-1683935999@merakimontessori.co.nz
SUMMARY:Camp at Moirs Point\, Mangawhai - Tūmanako
DESCRIPTION:
URL:https://merakimontessori.co.nz/event/camp-at-moirs-point-mangawhai-tumanako/
END:VEVENT
BEGIN:VEVENT
DTSTART;VALUE=DATE:20230505
DTEND;VALUE=DATE:20230506
DTSTAMP:20260425T013047
CREATED:20230302T005147Z
LAST-MODIFIED:20230302T005147Z
UID:1107-1683244800-1683331199@merakimontessori.co.nz
SUMMARY:Butterfly Creek Trip - Taurangi
DESCRIPTION:
URL:https://merakimontessori.co.nz/event/butterfly-creek-trip-taurangi/
END:VEVENT
BEGIN:VEVENT
DTSTART;TZID=Pacific/Auckland:20230425T083000
DTEND;TZID=Pacific/Auckland:20230425T150000
DTSTAMP:20260425T013047
CREATED:20221122T025419Z
LAST-MODIFIED:20221122T025419Z
UID:1078-1682411400-1682434800@merakimontessori.co.nz
SUMMARY:Anzac Day - School Closed
DESCRIPTION:
URL:https://merakimontessori.co.nz/event/anzac-day-school-closed/
END:VEVENT
BEGIN:VEVENT
DTSTART;TZID=Pacific/Auckland:20230424T083000
DTEND;TZID=Pacific/Auckland:20230424T150000
DTSTAMP:20260425T013047
CREATED:20221122T025141Z
LAST-MODIFIED:20221122T025141Z
UID:1076-1682325000-1682348400@merakimontessori.co.nz
SUMMARY:First Day of Term 2\, 2023
DESCRIPTION:
URL:https://merakimontessori.co.nz/event/first-day-of-term-2-2023/
END:VEVENT
BEGIN:VEVENT
DTSTART;VALUE=DATE:20230406
DTEND;VALUE=DATE:20230407
DTSTAMP:20260425T013047
CREATED:20220909T022726Z
LAST-MODIFIED:20221122T024944Z
UID:1067-1680739200-1680825599@merakimontessori.co.nz
SUMMARY:Teacher only Day
DESCRIPTION:
URL:https://merakimontessori.co.nz/event/teacher-only-day-9/
END:VEVENT
BEGIN:VEVENT
DTSTART;TZID=Pacific/Auckland:20230405T083000
DTEND;TZID=Pacific/Auckland:20230405T150000
DTSTAMP:20260425T013047
CREATED:20220909T022637Z
LAST-MODIFIED:20221122T025041Z
UID:1065-1680683400-1680706800@merakimontessori.co.nz
SUMMARY:Last day of Term 1
DESCRIPTION:
URL:https://merakimontessori.co.nz/event/last-day-of-term-1-2/
END:VEVENT
BEGIN:VEVENT
DTSTART;VALUE=DATE:20230316
DTEND;VALUE=DATE:20230317
DTSTAMP:20260425T013047
CREATED:20230302T005342Z
LAST-MODIFIED:20230302T005342Z
UID:1111-1678924800-1679011199@merakimontessori.co.nz
SUMMARY:Rangitoto Island Trip - Tūmanako
DESCRIPTION:
URL:https://merakimontessori.co.nz/event/rangitoto-island-trip-tumanako/
END:VEVENT
BEGIN:VEVENT
DTSTART;TZID=Pacific/Auckland:20230315T180000
DTEND;TZID=Pacific/Auckland:20230315T193000
DTSTAMP:20260425T013047
CREATED:20230122T231137Z
LAST-MODIFIED:20230122T231137Z
UID:1104-1678903200-1678908600@merakimontessori.co.nz
SUMMARY:Parent Discussion Evening
DESCRIPTION:
URL:https://merakimontessori.co.nz/event/parent-discussion-evening/
END:VEVENT
BEGIN:VEVENT
DTSTART;TZID=Pacific/Auckland:20230207T083000
DTEND;TZID=Pacific/Auckland:20230207T150000
DTSTAMP:20260425T013047
CREATED:20220908T003205Z
LAST-MODIFIED:20220909T023132Z
UID:1061-1675758600-1675782000@merakimontessori.co.nz
SUMMARY:First Day of Term 1
DESCRIPTION:
URL:https://merakimontessori.co.nz/event/term-1-start/
END:VEVENT
BEGIN:VEVENT
DTSTART;TZID=Pacific/Auckland:20221216T082000
DTEND;TZID=Pacific/Auckland:20221216T150000
DTSTAMP:20260425T013047
CREATED:20211125T003301Z
LAST-MODIFIED:20220919T235818Z
UID:1021-1671178800-1671202800@merakimontessori.co.nz
SUMMARY:Last day of Term 4 - Whanau Picnic
DESCRIPTION:
URL:https://merakimontessori.co.nz/event/last-day-of-term-4/
END:VEVENT
BEGIN:VEVENT
DTSTART;TZID=Pacific/Auckland:20221119T100000
DTEND;TZID=Pacific/Auckland:20221119T120000
DTSTAMP:20260425T013047
CREATED:20220607T230120Z
LAST-MODIFIED:20220607T230120Z
UID:1036-1668852000-1668859200@merakimontessori.co.nz
SUMMARY:Open Day
DESCRIPTION:
URL:https://merakimontessori.co.nz/event/open-day-3/
END:VEVENT
BEGIN:VEVENT
DTSTART;TZID=Pacific/Auckland:20221024T082000
DTEND;TZID=Pacific/Auckland:20221024T152000
DTSTAMP:20260425T013047
CREATED:20211125T003216Z
LAST-MODIFIED:20211125T003216Z
UID:1019-1666599600-1666624800@merakimontessori.co.nz
SUMMARY:Labour Day
DESCRIPTION:No School
URL:https://merakimontessori.co.nz/event/labour-day/
END:VEVENT
BEGIN:VEVENT
DTSTART;TZID=Pacific/Auckland:20221021T082000
DTEND;TZID=Pacific/Auckland:20221021T150000
DTSTAMP:20260425T013047
CREATED:20211125T003138Z
LAST-MODIFIED:20211125T003138Z
UID:1017-1666340400-1666364400@merakimontessori.co.nz
SUMMARY:Teacher Only Day
DESCRIPTION:
URL:https://merakimontessori.co.nz/event/teacher-only-day-7/
END:VEVENT
BEGIN:VEVENT
DTSTART;TZID=Pacific/Auckland:20221017T082000
DTEND;TZID=Pacific/Auckland:20221017T152000
DTSTAMP:20260425T013047
CREATED:20211125T003054Z
LAST-MODIFIED:20211125T003054Z
UID:1015-1665994800-1666020000@merakimontessori.co.nz
SUMMARY:First day of Term 4
DESCRIPTION:
URL:https://merakimontessori.co.nz/event/first-day-of-term-4/
END:VEVENT
BEGIN:VEVENT
DTSTART;TZID=Pacific/Auckland:20220930T082000
DTEND;TZID=Pacific/Auckland:20221016T150000
DTSTAMP:20260425T013047
CREATED:20211125T002959Z
LAST-MODIFIED:20211125T002959Z
UID:1013-1664526000-1665932400@merakimontessori.co.nz
SUMMARY:School Holidays
DESCRIPTION:
URL:https://merakimontessori.co.nz/event/school-holidays-2/
END:VEVENT
BEGIN:VEVENT
DTSTART;TZID=Pacific/Auckland:20220930T082000
DTEND;TZID=Pacific/Auckland:20220930T152000
DTSTAMP:20260425T013047
CREATED:20211125T002908Z
LAST-MODIFIED:20211125T002908Z
UID:1011-1664526000-1664551200@merakimontessori.co.nz
SUMMARY:Teacher Only day
DESCRIPTION:
URL:https://merakimontessori.co.nz/event/teacher-only-day-6/
END:VEVENT
END:VCALENDAR