BEGIN:VCALENDAR
VERSION:2.0
PRODID:-//Meraki montessori - ECPv6.15.11//NONSGML v1.0//EN
CALSCALE:GREGORIAN
METHOD:PUBLISH
X-WR-CALNAME:Meraki montessori
X-ORIGINAL-URL:https://merakimontessori.co.nz
X-WR-CALDESC:Events for Meraki montessori
REFRESH-INTERVAL;VALUE=DURATION:PT1H
X-Robots-Tag:noindex
X-PUBLISHED-TTL:PT1H
BEGIN:VTIMEZONE
TZID:Pacific/Auckland
BEGIN:STANDARD
TZOFFSETFROM:+1300
TZOFFSETTO:+1200
TZNAME:NZST
DTSTART:20230401T140000
END:STANDARD
BEGIN:DAYLIGHT
TZOFFSETFROM:+1200
TZOFFSETTO:+1300
TZNAME:NZDT
DTSTART:20230923T140000
END:DAYLIGHT
BEGIN:STANDARD
TZOFFSETFROM:+1300
TZOFFSETTO:+1200
TZNAME:NZST
DTSTART:20240406T140000
END:STANDARD
BEGIN:DAYLIGHT
TZOFFSETFROM:+1200
TZOFFSETTO:+1300
TZNAME:NZDT
DTSTART:20240928T140000
END:DAYLIGHT
BEGIN:STANDARD
TZOFFSETFROM:+1300
TZOFFSETTO:+1200
TZNAME:NZST
DTSTART:20250405T140000
END:STANDARD
BEGIN:DAYLIGHT
TZOFFSETFROM:+1200
TZOFFSETTO:+1300
TZNAME:NZDT
DTSTART:20250927T140000
END:DAYLIGHT
BEGIN:STANDARD
TZOFFSETFROM:+1300
TZOFFSETTO:+1200
TZNAME:NZST
DTSTART:20260404T140000
END:STANDARD
BEGIN:DAYLIGHT
TZOFFSETFROM:+1200
TZOFFSETTO:+1300
TZNAME:NZDT
DTSTART:20260926T140000
END:DAYLIGHT
END:VTIMEZONE
BEGIN:VEVENT
DTSTART;TZID=Pacific/Auckland:20250327T131500
DTEND;TZID=Pacific/Auckland:20250327T143000
DTSTAMP:20260423T102845
CREATED:20250121T230734Z
LAST-MODIFIED:20250121T230734Z
UID:1310-1743081300-1743085800@merakimontessori.co.nz
SUMMARY:Yoga with Tash at Meraki
DESCRIPTION:
URL:https://merakimontessori.co.nz/event/yoga-with-tash-at-meraki-6/
END:VEVENT
BEGIN:VEVENT
DTSTART;TZID=Pacific/Auckland:20250321T170000
DTEND;TZID=Pacific/Auckland:20250321T190000
DTSTAMP:20260423T102845
CREATED:20250219T000023Z
LAST-MODIFIED:20250310T215439Z
UID:1356-1742576400-1742583600@merakimontessori.co.nz
SUMMARY:Night Market at Meraki 5pm-7pm
DESCRIPTION:
URL:https://merakimontessori.co.nz/event/night-market-at-meraki-5pm-7pm/
END:VEVENT
BEGIN:VEVENT
DTSTART;TZID=Pacific/Auckland:20250320T131500
DTEND;TZID=Pacific/Auckland:20250320T143000
DTSTAMP:20260423T102845
CREATED:20250121T230649Z
LAST-MODIFIED:20250121T230649Z
UID:1308-1742476500-1742481000@merakimontessori.co.nz
SUMMARY:Yoga with Tash at Meraki
DESCRIPTION:
URL:https://merakimontessori.co.nz/event/yoga-with-tash-at-meraki-5/
END:VEVENT
BEGIN:VEVENT
DTSTART;TZID=Pacific/Auckland:20250314T080000
DTEND;TZID=Pacific/Auckland:20250314T170000
DTSTAMP:20260423T102845
CREATED:20250211T202834Z
LAST-MODIFIED:20250211T202834Z
UID:1342-1741939200-1741971600@merakimontessori.co.nz
SUMMARY:Stardome Observatory Trip - Taurangi
DESCRIPTION:
URL:https://merakimontessori.co.nz/event/stardome-observatory-trip-taurangi/
END:VEVENT
BEGIN:VEVENT
DTSTART;TZID=Pacific/Auckland:20250313T131500
DTEND;TZID=Pacific/Auckland:20250313T143000
DTSTAMP:20260423T102845
CREATED:20250121T230559Z
LAST-MODIFIED:20250121T230559Z
UID:1306-1741871700-1741876200@merakimontessori.co.nz
SUMMARY:Yoga with Tash at Meraki
DESCRIPTION:
URL:https://merakimontessori.co.nz/event/yoga-with-tash-at-meraki-4/
END:VEVENT
BEGIN:VEVENT
DTSTART;TZID=Pacific/Auckland:20250310T080000
DTEND;TZID=Pacific/Auckland:20250310T170000
DTSTAMP:20260423T102845
CREATED:20250211T203538Z
LAST-MODIFIED:20250211T203538Z
UID:1354-1741593600-1741626000@merakimontessori.co.nz
SUMMARY:Art with Nadya
DESCRIPTION:
URL:https://merakimontessori.co.nz/event/art-with-nadya-4/
END:VEVENT
BEGIN:VEVENT
DTSTART;TZID=Pacific/Auckland:20250308T090000
DTEND;TZID=Pacific/Auckland:20250308T110000
DTSTAMP:20260423T102845
CREATED:20250227T020936Z
LAST-MODIFIED:20250227T020936Z
UID:1359-1741424400-1741431600@merakimontessori.co.nz
SUMMARY:Working Bee 9am-11am
DESCRIPTION:
URL:https://merakimontessori.co.nz/event/working-bee-9am-11am/
END:VEVENT
BEGIN:VEVENT
DTSTART;TZID=Pacific/Auckland:20250306T131500
DTEND;TZID=Pacific/Auckland:20250306T143000
DTSTAMP:20260423T102845
CREATED:20250121T230516Z
LAST-MODIFIED:20250121T230516Z
UID:1304-1741266900-1741271400@merakimontessori.co.nz
SUMMARY:Yoga with Tash at Meraki
DESCRIPTION:
URL:https://merakimontessori.co.nz/event/yoga-with-tash-at-meraki-3/
END:VEVENT
BEGIN:VEVENT
DTSTART;TZID=Pacific/Auckland:20250303T080000
DTEND;TZID=Pacific/Auckland:20250305T170000
DTSTAMP:20260423T102845
CREATED:20250124T020632Z
LAST-MODIFIED:20250124T020632Z
UID:1320-1740988800-1741194000@merakimontessori.co.nz
SUMMARY:Tūmanako Camp in Russell
DESCRIPTION:
URL:https://merakimontessori.co.nz/event/tumanako-camp-in-russell/
END:VEVENT
BEGIN:VEVENT
DTSTART;TZID=Pacific/Auckland:20250303T080000
DTEND;TZID=Pacific/Auckland:20250303T170000
DTSTAMP:20260423T102845
CREATED:20250211T203522Z
LAST-MODIFIED:20250211T203522Z
UID:1352-1740988800-1741021200@merakimontessori.co.nz
SUMMARY:Art with Nadya
DESCRIPTION:
URL:https://merakimontessori.co.nz/event/art-with-nadya-3/
END:VEVENT
BEGIN:VEVENT
DTSTART;TZID=Pacific/Auckland:20250228T170000
DTEND;TZID=Pacific/Auckland:20250301T100000
DTSTAMP:20260423T102845
CREATED:20250121T231405Z
LAST-MODIFIED:20250121T231405Z
UID:1318-1740762000-1740823200@merakimontessori.co.nz
SUMMARY:Community Camp at Meraki
DESCRIPTION:
URL:https://merakimontessori.co.nz/event/community-camp-at-meraki/
END:VEVENT
BEGIN:VEVENT
DTSTART;VALUE=DATE:20250228
DTEND;VALUE=DATE:20250301
DTSTAMP:20260423T102845
CREATED:20250121T231145Z
LAST-MODIFIED:20250121T231145Z
UID:1316-1740700800-1740787199@merakimontessori.co.nz
SUMMARY:Sports/Athletics Day at Meraki
DESCRIPTION:
URL:https://merakimontessori.co.nz/event/sports-athletics-day-at-meraki/
END:VEVENT
BEGIN:VEVENT
DTSTART;TZID=Pacific/Auckland:20250227T131500
DTEND;TZID=Pacific/Auckland:20250227T143000
DTSTAMP:20260423T102845
CREATED:20250121T230424Z
LAST-MODIFIED:20250121T230424Z
UID:1302-1740662100-1740666600@merakimontessori.co.nz
SUMMARY:Yoga with Tash at Meraki
DESCRIPTION:
URL:https://merakimontessori.co.nz/event/yoga-with-tash-at-meraki-2/
END:VEVENT
BEGIN:VEVENT
DTSTART;TZID=Pacific/Auckland:20250224T180000
DTEND;TZID=Pacific/Auckland:20250224T193000
DTSTAMP:20260423T102845
CREATED:20250121T231046Z
LAST-MODIFIED:20250121T231046Z
UID:1314-1740420000-1740425400@merakimontessori.co.nz
SUMMARY:Parent Education Evening at 6pm
DESCRIPTION:
URL:https://merakimontessori.co.nz/event/parent-education-evening-at-6pm/
END:VEVENT
BEGIN:VEVENT
DTSTART;TZID=Pacific/Auckland:20250224T080000
DTEND;TZID=Pacific/Auckland:20250224T170000
DTSTAMP:20260423T102845
CREATED:20250211T203503Z
LAST-MODIFIED:20250211T203503Z
UID:1350-1740384000-1740416400@merakimontessori.co.nz
SUMMARY:Art with Nadya
DESCRIPTION:
URL:https://merakimontessori.co.nz/event/art-with-nadya-2/
END:VEVENT
BEGIN:VEVENT
DTSTART;VALUE=DATE:20250221
DTEND;VALUE=DATE:20250222
DTSTAMP:20260423T102845
CREATED:20250121T230917Z
LAST-MODIFIED:20250121T230917Z
UID:1312-1740096000-1740182399@merakimontessori.co.nz
SUMMARY:Surfing Day at Orewa Beach with Aotearoa Surf
DESCRIPTION:
URL:https://merakimontessori.co.nz/event/surfing-day-at-orewa-beach-with-aotearoa-surf/
END:VEVENT
BEGIN:VEVENT
DTSTART;TZID=Pacific/Auckland:20250220T131500
DTEND;TZID=Pacific/Auckland:20250220T143000
DTSTAMP:20260423T102845
CREATED:20250121T230325Z
LAST-MODIFIED:20250121T230325Z
UID:1300-1740057300-1740061800@merakimontessori.co.nz
SUMMARY:Yoga with Tash at Meraki
DESCRIPTION:
URL:https://merakimontessori.co.nz/event/yoga-with-tash-at-meraki/
END:VEVENT
BEGIN:VEVENT
DTSTART;TZID=Pacific/Auckland:20250217T080000
DTEND;TZID=Pacific/Auckland:20250217T170000
DTSTAMP:20260423T102845
CREATED:20250211T203445Z
LAST-MODIFIED:20250211T203445Z
UID:1348-1739779200-1739811600@merakimontessori.co.nz
SUMMARY:Art with Nadya
DESCRIPTION:
URL:https://merakimontessori.co.nz/event/art-with-nadya/
END:VEVENT
BEGIN:VEVENT
DTSTART;VALUE=DATE:20250213
DTEND;VALUE=DATE:20250214
DTSTAMP:20260423T102845
CREATED:20250121T230206Z
LAST-MODIFIED:20250121T230206Z
UID:1298-1739404800-1739491199@merakimontessori.co.nz
SUMMARY:Beach Education at Red Beach - Tūmanako
DESCRIPTION:
URL:https://merakimontessori.co.nz/event/beach-education-at-red-beach-tumanako/
END:VEVENT
BEGIN:VEVENT
DTSTART;VALUE=DATE:20250211
DTEND;VALUE=DATE:20250212
DTSTAMP:20260423T102845
CREATED:20250121T230132Z
LAST-MODIFIED:20250121T230132Z
UID:1296-1739232000-1739318399@merakimontessori.co.nz
SUMMARY:Beach Education at Red Beach (Taurangi)
DESCRIPTION:
URL:https://merakimontessori.co.nz/event/beach-education-at-red-beach-taurangi/
END:VEVENT
BEGIN:VEVENT
DTSTART;VALUE=DATE:20250207
DTEND;VALUE=DATE:20250208
DTSTAMP:20260423T102845
CREATED:20240730T001041Z
LAST-MODIFIED:20240730T001041Z
UID:1251-1738886400-1738972799@merakimontessori.co.nz
SUMMARY:First Day of Term 1
DESCRIPTION:
URL:https://merakimontessori.co.nz/event/first-day-of-term-1-2/
END:VEVENT
BEGIN:VEVENT
DTSTART;VALUE=DATE:20250206
DTEND;VALUE=DATE:20250207
DTSTAMP:20260423T102845
CREATED:20240730T001014Z
LAST-MODIFIED:20240730T001014Z
UID:1249-1738800000-1738886399@merakimontessori.co.nz
SUMMARY:Waitangi Day - Public Holiday
DESCRIPTION:
URL:https://merakimontessori.co.nz/event/waitangi-day-public-holiday/
END:VEVENT
BEGIN:VEVENT
DTSTART;VALUE=DATE:20241218
DTEND;VALUE=DATE:20241219
DTSTAMP:20260423T102845
CREATED:20231015T212847Z
LAST-MODIFIED:20240209T004236Z
UID:1202-1734480000-1734566399@merakimontessori.co.nz
SUMMARY:Last Day of Term 4 - Whanau Picnic
DESCRIPTION:
URL:https://merakimontessori.co.nz/event/last-day-of-term-4-whanau-picnic-2/
END:VEVENT
BEGIN:VEVENT
DTSTART;VALUE=DATE:20241028
DTEND;VALUE=DATE:20241029
DTSTAMP:20260423T102845
CREATED:20231015T212811Z
LAST-MODIFIED:20231015T213217Z
UID:1200-1730073600-1730159999@merakimontessori.co.nz
SUMMARY:Labour Day - School Closed
DESCRIPTION:
URL:https://merakimontessori.co.nz/event/labour-day-2/
END:VEVENT
BEGIN:VEVENT
DTSTART;VALUE=DATE:20241025
DTEND;VALUE=DATE:20241026
DTSTAMP:20260423T102845
CREATED:20231015T212741Z
LAST-MODIFIED:20231015T212741Z
UID:1198-1729814400-1729900799@merakimontessori.co.nz
SUMMARY:Teacher Only Day
DESCRIPTION:
URL:https://merakimontessori.co.nz/event/teacher-only-day-16/
END:VEVENT
BEGIN:VEVENT
DTSTART;VALUE=DATE:20241014
DTEND;VALUE=DATE:20241015
DTSTAMP:20260423T102845
CREATED:20231015T212712Z
LAST-MODIFIED:20231015T212712Z
UID:1196-1728864000-1728950399@merakimontessori.co.nz
SUMMARY:First Day of Term 4
DESCRIPTION:
URL:https://merakimontessori.co.nz/event/first-day-of-term-4-3/
END:VEVENT
BEGIN:VEVENT
DTSTART;VALUE=DATE:20240927
DTEND;VALUE=DATE:20240928
DTSTAMP:20260423T102845
CREATED:20231015T211918Z
LAST-MODIFIED:20231015T211918Z
UID:1194-1727395200-1727481599@merakimontessori.co.nz
SUMMARY:Teacher Only Day
DESCRIPTION:
URL:https://merakimontessori.co.nz/event/teacher-only-day-15/
END:VEVENT
BEGIN:VEVENT
DTSTART;VALUE=DATE:20240926
DTEND;VALUE=DATE:20240927
DTSTAMP:20260423T102845
CREATED:20231015T211829Z
LAST-MODIFIED:20231015T211829Z
UID:1192-1727308800-1727395199@merakimontessori.co.nz
SUMMARY:Last Day of Term 3
DESCRIPTION:
URL:https://merakimontessori.co.nz/event/last-day-of-term-3-2/
END:VEVENT
BEGIN:VEVENT
DTSTART;VALUE=DATE:20240722
DTEND;VALUE=DATE:20240723
DTSTAMP:20260423T102845
CREATED:20231015T211721Z
LAST-MODIFIED:20231015T211721Z
UID:1190-1721606400-1721692799@merakimontessori.co.nz
SUMMARY:First Day of Term 3
DESCRIPTION:
URL:https://merakimontessori.co.nz/event/first-day-of-term-3-2/
END:VEVENT
BEGIN:VEVENT
DTSTART;VALUE=DATE:20240705
DTEND;VALUE=DATE:20240706
DTSTAMP:20260423T102845
CREATED:20231015T211436Z
LAST-MODIFIED:20231015T211436Z
UID:1188-1720137600-1720223999@merakimontessori.co.nz
SUMMARY:Teacher Only Day
DESCRIPTION:
URL:https://merakimontessori.co.nz/event/teacher-only-day-14/
END:VEVENT
END:VCALENDAR