BEGIN:VCALENDAR
VERSION:2.0
PRODID:-//Meraki montessori - ECPv6.15.11//NONSGML v1.0//EN
CALSCALE:GREGORIAN
METHOD:PUBLISH
X-WR-CALNAME:Meraki montessori
X-ORIGINAL-URL:https://merakimontessori.co.nz
X-WR-CALDESC:Events for Meraki montessori
REFRESH-INTERVAL;VALUE=DURATION:PT1H
X-Robots-Tag:noindex
X-PUBLISHED-TTL:PT1H
BEGIN:VTIMEZONE
TZID:Pacific/Auckland
BEGIN:STANDARD
TZOFFSETFROM:+1300
TZOFFSETTO:+1200
TZNAME:NZST
DTSTART:20240406T140000
END:STANDARD
BEGIN:DAYLIGHT
TZOFFSETFROM:+1200
TZOFFSETTO:+1300
TZNAME:NZDT
DTSTART:20240928T140000
END:DAYLIGHT
BEGIN:STANDARD
TZOFFSETFROM:+1300
TZOFFSETTO:+1200
TZNAME:NZST
DTSTART:20250405T140000
END:STANDARD
BEGIN:DAYLIGHT
TZOFFSETFROM:+1200
TZOFFSETTO:+1300
TZNAME:NZDT
DTSTART:20250927T140000
END:DAYLIGHT
BEGIN:STANDARD
TZOFFSETFROM:+1300
TZOFFSETTO:+1200
TZNAME:NZST
DTSTART:20260404T140000
END:STANDARD
BEGIN:DAYLIGHT
TZOFFSETFROM:+1200
TZOFFSETTO:+1300
TZNAME:NZDT
DTSTART:20260926T140000
END:DAYLIGHT
END:VTIMEZONE
BEGIN:VEVENT
DTSTART;VALUE=DATE:20251022
DTEND;VALUE=DATE:20251023
DTSTAMP:20260420T053911
CREATED:20250925T011041Z
LAST-MODIFIED:20250925T011041Z
UID:1413-1761091200-1761177599@merakimontessori.co.nz
SUMMARY:Soccer Training
DESCRIPTION:
URL:https://merakimontessori.co.nz/event/soccer-training-2/
END:VEVENT
BEGIN:VEVENT
DTSTART;VALUE=DATE:20251021
DTEND;VALUE=DATE:20251023
DTSTAMP:20260420T053911
CREATED:20250925T011610Z
LAST-MODIFIED:20250925T011610Z
UID:1427-1761004800-1761177599@merakimontessori.co.nz
SUMMARY:Art with Nadya
DESCRIPTION:
URL:https://merakimontessori.co.nz/event/art-with-nadya-5/
END:VEVENT
BEGIN:VEVENT
DTSTART;VALUE=DATE:20251020
DTEND;VALUE=DATE:20251021
DTSTAMP:20260420T053911
CREATED:20250925T011356Z
LAST-MODIFIED:20250925T011356Z
UID:1425-1760918400-1761004799@merakimontessori.co.nz
SUMMARY:The Sailor - Asthma Show
DESCRIPTION:
URL:https://merakimontessori.co.nz/event/the-sailor-asthma-show/
END:VEVENT
BEGIN:VEVENT
DTSTART;TZID=Pacific/Auckland:20251017T080000
DTEND;TZID=Pacific/Auckland:20251017T170000
DTSTAMP:20260420T053911
CREATED:20251001T230954Z
LAST-MODIFIED:20251001T230954Z
UID:1461-1760688000-1760720400@merakimontessori.co.nz
SUMMARY:Blake NZ-VR - Marine Mammals (Tūmanako)
DESCRIPTION:
URL:https://merakimontessori.co.nz/event/blake-nz-vr-marine-mammals-tumanako/
END:VEVENT
BEGIN:VEVENT
DTSTART;VALUE=DATE:20251016
DTEND;VALUE=DATE:20251017
DTSTAMP:20260420T053911
CREATED:20250925T011323Z
LAST-MODIFIED:20250925T011323Z
UID:1423-1760572800-1760659199@merakimontessori.co.nz
SUMMARY:Tread Lightly Caravan
DESCRIPTION:
URL:https://merakimontessori.co.nz/event/tread-lightly-caravan/
END:VEVENT
BEGIN:VEVENT
DTSTART;VALUE=DATE:20251015
DTEND;VALUE=DATE:20251016
DTSTAMP:20260420T053911
CREATED:20250925T011015Z
LAST-MODIFIED:20250925T011015Z
UID:1411-1760486400-1760572799@merakimontessori.co.nz
SUMMARY:Soccer Training
DESCRIPTION:
URL:https://merakimontessori.co.nz/event/soccer-training/
END:VEVENT
BEGIN:VEVENT
DTSTART;TZID=Pacific/Auckland:20251014T080000
DTEND;TZID=Pacific/Auckland:20251015T170000
DTSTAMP:20260420T053911
CREATED:20251001T230815Z
LAST-MODIFIED:20251001T230815Z
UID:1459-1760428800-1760547600@merakimontessori.co.nz
SUMMARY:Art with Nadya
DESCRIPTION:
URL:https://merakimontessori.co.nz/event/art-with-nadya-7/
END:VEVENT
BEGIN:VEVENT
DTSTART;VALUE=DATE:20251013
DTEND;VALUE=DATE:20251014
DTSTAMP:20260420T053911
CREATED:20250925T010913Z
LAST-MODIFIED:20250925T010913Z
UID:1409-1760313600-1760399999@merakimontessori.co.nz
SUMMARY:Fuse Drumming Show
DESCRIPTION:
URL:https://merakimontessori.co.nz/event/fuse-drumming-show/
END:VEVENT
BEGIN:VEVENT
DTSTART;VALUE=DATE:20251009
DTEND;VALUE=DATE:20251010
DTSTAMP:20260420T053911
CREATED:20250925T012825Z
LAST-MODIFIED:20250925T012825Z
UID:1435-1759968000-1760054399@merakimontessori.co.nz
SUMMARY:Clay Lessons
DESCRIPTION:
URL:https://merakimontessori.co.nz/event/clay-lessons/
END:VEVENT
BEGIN:VEVENT
DTSTART;TZID=Pacific/Auckland:20251007T080000
DTEND;TZID=Pacific/Auckland:20251008T170000
DTSTAMP:20260420T053911
CREATED:20250124T021323Z
LAST-MODIFIED:20250427T201520Z
UID:1326-1759824000-1759942800@merakimontessori.co.nz
SUMMARY:Life Education Truck at Meraki
DESCRIPTION:
URL:https://merakimontessori.co.nz/event/life-education-truck-at-meraki/
END:VEVENT
BEGIN:VEVENT
DTSTART;VALUE=DATE:20251006
DTEND;VALUE=DATE:20251007
DTSTAMP:20260420T053911
CREATED:20240730T002302Z
LAST-MODIFIED:20240730T002302Z
UID:1279-1759708800-1759795199@merakimontessori.co.nz
SUMMARY:First Day of Term 4
DESCRIPTION:
URL:https://merakimontessori.co.nz/event/first-day-of-term-4-2/
END:VEVENT
BEGIN:VEVENT
DTSTART;TZID=Pacific/Auckland:20250920T080000
DTEND;TZID=Pacific/Auckland:20251005T170000
DTSTAMP:20260420T053911
CREATED:20240730T002224Z
LAST-MODIFIED:20240730T002224Z
UID:1277-1758355200-1759683600@merakimontessori.co.nz
SUMMARY:School Holidays
DESCRIPTION:
URL:https://merakimontessori.co.nz/event/school-holidays-5/
END:VEVENT
BEGIN:VEVENT
DTSTART;VALUE=DATE:20250919
DTEND;VALUE=DATE:20250920
DTSTAMP:20260420T053911
CREATED:20240730T002134Z
LAST-MODIFIED:20240730T002134Z
UID:1275-1758240000-1758326399@merakimontessori.co.nz
SUMMARY:Teacher Only Day - School Closed
DESCRIPTION:
URL:https://merakimontessori.co.nz/event/teacher-only-day-school-closed-4/
END:VEVENT
BEGIN:VEVENT
DTSTART;VALUE=DATE:20250918
DTEND;VALUE=DATE:20250919
DTSTAMP:20260420T053911
CREATED:20240730T002045Z
LAST-MODIFIED:20240730T002045Z
UID:1273-1758153600-1758239999@merakimontessori.co.nz
SUMMARY:Last Day of Term 3
DESCRIPTION:
URL:https://merakimontessori.co.nz/event/last-day-of-term-3-3/
END:VEVENT
BEGIN:VEVENT
DTSTART;VALUE=DATE:20250714
DTEND;VALUE=DATE:20250715
DTSTAMP:20260420T053911
CREATED:20240730T001919Z
LAST-MODIFIED:20240730T001919Z
UID:1271-1752451200-1752537599@merakimontessori.co.nz
SUMMARY:First Day of Term 3
DESCRIPTION:
URL:https://merakimontessori.co.nz/event/first-day-of-term-3-3/
END:VEVENT
BEGIN:VEVENT
DTSTART;TZID=Pacific/Auckland:20250628T080000
DTEND;TZID=Pacific/Auckland:20250713T170000
DTSTAMP:20260420T053911
CREATED:20240730T001756Z
LAST-MODIFIED:20240730T001756Z
UID:1269-1751097600-1752426000@merakimontessori.co.nz
SUMMARY:School Holidays
DESCRIPTION:
URL:https://merakimontessori.co.nz/event/school-holidays-4/
END:VEVENT
BEGIN:VEVENT
DTSTART;VALUE=DATE:20250627
DTEND;VALUE=DATE:20250628
DTSTAMP:20260420T053911
CREATED:20240730T001718Z
LAST-MODIFIED:20240730T001718Z
UID:1267-1750982400-1751068799@merakimontessori.co.nz
SUMMARY:Teacher Only Day - School Closed
DESCRIPTION:
URL:https://merakimontessori.co.nz/event/teacher-only-day-school-closed-3/
END:VEVENT
BEGIN:VEVENT
DTSTART;VALUE=DATE:20250626
DTEND;VALUE=DATE:20250627
DTSTAMP:20260420T053911
CREATED:20250124T022127Z
LAST-MODIFIED:20250124T022322Z
UID:1338-1750896000-1750982399@merakimontessori.co.nz
SUMMARY:Last Day of Term 2 and RMHC Fundraiser (PJ Day)
DESCRIPTION:
URL:https://merakimontessori.co.nz/event/last-day-of-term-2-and-rmhc-fundraiser-pj-day/
END:VEVENT
BEGIN:VEVENT
DTSTART;VALUE=DATE:20250620
DTEND;VALUE=DATE:20250621
DTSTAMP:20260420T053911
CREATED:20240730T001603Z
LAST-MODIFIED:20240730T001603Z
UID:1265-1750377600-1750463999@merakimontessori.co.nz
SUMMARY:Matariki - Public Holiday
DESCRIPTION:
URL:https://merakimontessori.co.nz/event/matariki-public-holiday/
END:VEVENT
BEGIN:VEVENT
DTSTART;VALUE=DATE:20250619
DTEND;VALUE=DATE:20250620
DTSTAMP:20260420T053911
CREATED:20250124T021950Z
LAST-MODIFIED:20250124T021950Z
UID:1336-1750291200-1750377599@merakimontessori.co.nz
SUMMARY:Matariki Sports Day and Community Pot Luck Dinner at Meraki
DESCRIPTION:
URL:https://merakimontessori.co.nz/event/matariki-sports-day-and-community-pot-luck-dinner-at-meraki/
END:VEVENT
BEGIN:VEVENT
DTSTART;VALUE=DATE:20250602
DTEND;VALUE=DATE:20250603
DTSTAMP:20260420T053911
CREATED:20240730T001515Z
LAST-MODIFIED:20240730T001515Z
UID:1263-1748822400-1748908799@merakimontessori.co.nz
SUMMARY:Kings Birthday - Public Holiday
DESCRIPTION:
URL:https://merakimontessori.co.nz/event/kings-birthday-public-holiday/
END:VEVENT
BEGIN:VEVENT
DTSTART;VALUE=DATE:20250530
DTEND;VALUE=DATE:20250531
DTSTAMP:20260420T053911
CREATED:20240730T001437Z
LAST-MODIFIED:20240730T001437Z
UID:1261-1748563200-1748649599@merakimontessori.co.nz
SUMMARY:Teacher Only Day - School Closed
DESCRIPTION:
URL:https://merakimontessori.co.nz/event/teacher-only-day-school-closed-2/
END:VEVENT
BEGIN:VEVENT
DTSTART;TZID=Pacific/Auckland:20250528T090000
DTEND;TZID=Pacific/Auckland:20250528T100000
DTSTAMP:20260420T053911
CREATED:20250124T021902Z
LAST-MODIFIED:20250124T021902Z
UID:1334-1748422800-1748426400@merakimontessori.co.nz
SUMMARY:Show:Speak Up Friend
DESCRIPTION:
URL:https://merakimontessori.co.nz/event/showspeak-up-friend/
END:VEVENT
BEGIN:VEVENT
DTSTART;TZID=Pacific/Auckland:20250527T133000
DTEND;TZID=Pacific/Auckland:20250527T143000
DTSTAMP:20260420T053911
CREATED:20250124T021812Z
LAST-MODIFIED:20250124T021812Z
UID:1332-1748352600-1748356200@merakimontessori.co.nz
SUMMARY:Perform Show:Bookweek
DESCRIPTION:
URL:https://merakimontessori.co.nz/event/perform-showbookweek/
END:VEVENT
BEGIN:VEVENT
DTSTART;TZID=Pacific/Auckland:20250507T080000
DTEND;TZID=Pacific/Auckland:20250509T170000
DTSTAMP:20260420T053911
CREATED:20250124T021550Z
LAST-MODIFIED:20250124T021550Z
UID:1330-1746604800-1746810000@merakimontessori.co.nz
SUMMARY:Tūmanako Camp in Rotorua
DESCRIPTION:
URL:https://merakimontessori.co.nz/event/tumanako-camp-in-rotorua/
END:VEVENT
BEGIN:VEVENT
DTSTART;TZID=Pacific/Auckland:20250502T080000
DTEND;TZID=Pacific/Auckland:20250502T170000
DTSTAMP:20260420T053911
CREATED:20250124T021427Z
LAST-MODIFIED:20250124T021427Z
UID:1328-1746172800-1746205200@merakimontessori.co.nz
SUMMARY:Tiritiri Matangi Trip - Tūmanako
DESCRIPTION:
URL:https://merakimontessori.co.nz/event/tiritiri-matangi-trip-tumanako/
END:VEVENT
BEGIN:VEVENT
DTSTART;VALUE=DATE:20250428
DTEND;VALUE=DATE:20250429
DTSTAMP:20260420T053911
CREATED:20240730T001340Z
LAST-MODIFIED:20240730T001340Z
UID:1259-1745798400-1745884799@merakimontessori.co.nz
SUMMARY:First Day of Term 2
DESCRIPTION:
URL:https://merakimontessori.co.nz/event/first-day-of-term-2-2/
END:VEVENT
BEGIN:VEVENT
DTSTART;TZID=Pacific/Auckland:20250412T080000
DTEND;TZID=Pacific/Auckland:20250427T170000
DTSTAMP:20260420T053911
CREATED:20240730T001308Z
LAST-MODIFIED:20240730T001308Z
UID:1257-1744444800-1745773200@merakimontessori.co.nz
SUMMARY:School Holidays
DESCRIPTION:
URL:https://merakimontessori.co.nz/event/school-holidays-3/
END:VEVENT
BEGIN:VEVENT
DTSTART;VALUE=DATE:20250411
DTEND;VALUE=DATE:20250412
DTSTAMP:20260420T053911
CREATED:20240730T001226Z
LAST-MODIFIED:20240730T001226Z
UID:1255-1744329600-1744415999@merakimontessori.co.nz
SUMMARY:Teacher Only Day - School Closed
DESCRIPTION:
URL:https://merakimontessori.co.nz/event/teacher-only-day-school-closed/
END:VEVENT
BEGIN:VEVENT
DTSTART;VALUE=DATE:20250410
DTEND;VALUE=DATE:20250411
DTSTAMP:20260420T053911
CREATED:20240730T001153Z
LAST-MODIFIED:20240730T001153Z
UID:1253-1744243200-1744329599@merakimontessori.co.nz
SUMMARY:Last Day of Term 1
DESCRIPTION:
URL:https://merakimontessori.co.nz/event/last-day-of-term-1-4/
END:VEVENT
END:VCALENDAR